BEGIN:VCALENDAR
VERSION:2.0
PRODID:-//United Way of San Antonio and Bexar County - ECPv6.6.4.2//NONSGML v1.0//EN
CALSCALE:GREGORIAN
METHOD:PUBLISH
X-ORIGINAL-URL:https://www.uwsatx.org
X-WR-CALDESC:Events for United Way of San Antonio and Bexar County
REFRESH-INTERVAL;VALUE=DURATION:PT1H
X-Robots-Tag:noindex
X-PUBLISHED-TTL:PT1H
BEGIN:VTIMEZONE
TZID:UTC
BEGIN:STANDARD
TZOFFSETFROM:+0000
TZOFFSETTO:+0000
TZNAME:UTC
DTSTART:20250101T000000
END:STANDARD
END:VTIMEZONE
BEGIN:VEVENT
DTSTART;TZID=UTC:20251211T170000
DTEND;TZID=UTC:20251211T190000
DTSTAMP:20260423T133405
CREATED:20251105T184925Z
LAST-MODIFIED:20251105T184925Z
UID:4234-1765472400-1765479600@www.uwsatx.org
SUMMARY:Coats and Cocktails Holiday Party
DESCRIPTION:Emerging Leaders will wrap up the year with our annual holiday party. Guests are encouraged to bring winter accessories to support United Way’s Project Warmth. \nThis event is open to Emerging Leaders members. Invites are sent to members via email. To learn more\, contact Rae Mikeska at rmikeska@unitedwaysatx.org. \n 
URL:https://www.uwsatx.org/event/coats-and-cocktails-holiday-party/
CATEGORIES:Emerging Leaders
ATTACH;FMTTYPE=image/jpeg:https://www.uwsatx.org/wp-content/uploads/2025/11/2025_EL_CoatsandCocktails_WebFeature-1.jpg
END:VEVENT
BEGIN:VEVENT
DTSTART;TZID=UTC:20260425T110000
DTEND;TZID=UTC:20260425T140000
DTSTAMP:20260423T133405
CREATED:20260408T213928Z
LAST-MODIFIED:20260408T214123Z
UID:4405-1777114800-1777125600@www.uwsatx.org
SUMMARY:United Way Kids Festival
DESCRIPTION:Grab your medals and join us for the United Way of San Antonio and Bexar County Kids Festival. This free\, official Fiesta® San Antonio event is for families to enjoy activities related to early childhood development. Join us for FREE games\, music and family fun! \nRegister today: https://www.eventbrite.com/e/2026-united-way-kids-festival-registration-1980558736496 \nFor more information\, contact Keamber McCracken kmccracken@unitedwaysatx.org.
URL:https://www.uwsatx.org/event/united-way-kids-festival-5/
LOCATION:Rosedale Park\, 303 Dartmouth St\, San Antonio\, Texas\, 78237\, United States
CATEGORIES:Family Engagement
ATTACH;FMTTYPE=image/jpeg:https://www.uwsatx.org/wp-content/uploads/2026/04/2026_KidsFest_WebFeature-1.jpg
END:VEVENT
END:VCALENDAR