BEGIN:VCALENDAR
VERSION:2.0
PRODID:-//United Way of San Antonio and Bexar County - ECPv6.6.4.2//NONSGML v1.0//EN
CALSCALE:GREGORIAN
METHOD:PUBLISH
X-WR-CALNAME:United Way of San Antonio and Bexar County
X-ORIGINAL-URL:https://www.uwsatx.org
X-WR-CALDESC:Events for United Way of San Antonio and Bexar County
REFRESH-INTERVAL;VALUE=DURATION:PT1H
X-Robots-Tag:noindex
X-PUBLISHED-TTL:PT1H
BEGIN:VTIMEZONE
TZID:UTC
BEGIN:STANDARD
TZOFFSETFROM:+0000
TZOFFSETTO:+0000
TZNAME:UTC
DTSTART:20220101T000000
END:STANDARD
END:VTIMEZONE
BEGIN:VEVENT
DTSTART;TZID=UTC:20220917T080000
DTEND;TZID=UTC:20220922T170000
DTSTAMP:20260423T111808
CREATED:20220811T212120Z
LAST-MODIFIED:20220811T212327Z
UID:1916-1663401600-1663866000@www.uwsatx.org
SUMMARY:Week of Caring
DESCRIPTION:Mark your calendar for September 17th – 24th for an opportunity to connect corporations\, individuals\, and families with community organizations\, as we engage in a variety of volunteer opportunities together!
URL:https://www.uwsatx.org/event/week-of-caring/
CATEGORIES:Volunteer Center
ATTACH;FMTTYPE=image/jpeg:https://www.uwsatx.org/wp-content/uploads/2022/08/2022_VC_WeekofCaring_website_featuredimage-429-×-267-px.jpg
END:VEVENT
BEGIN:VEVENT
DTSTART;TZID=UTC:20220908T090000
DTEND;TZID=UTC:20220910T120000
DTSTAMP:20260423T111808
CREATED:20220816T182550Z
LAST-MODIFIED:20220816T204752Z
UID:1929-1662627600-1662811200@www.uwsatx.org
SUMMARY:9/11 Days of Service
DESCRIPTION:In honor of the 21st anniversary of September 11\, we are paying tribute to the first responders who have risen in service to defend our freedom. With support from United Way Worldwide and AmeriCorps\, we are building and distributing more than 1\,200 Family Emergency Preparedness Starter Kits for families in San Antonio. Sign up to volunteer today! \nRegister today: https://www.volunteersanantonio.org/need/detail/?need_id=702103
URL:https://www.uwsatx.org/event/9-11-days-of-service/
LOCATION:Salvation Army\, 521 W. Elmira Street\, San Antonio\, TX\, 78212\, United States
CATEGORIES:Volunteer Center
ATTACH;FMTTYPE=image/jpeg:https://www.uwsatx.org/wp-content/uploads/2022/08/2022_VC_9.11_WebFeature_429x267.jpg
END:VEVENT
BEGIN:VEVENT
DTSTART;TZID=UTC:20220907T173000
DTEND;TZID=UTC:20220907T193000
DTSTAMP:20260423T111808
CREATED:20220811T161058Z
LAST-MODIFIED:20220811T192804Z
UID:1907-1662571800-1662579000@www.uwsatx.org
SUMMARY:Viva Women United Chair’s Reception
DESCRIPTION:Women United is welcoming 2022 United Way Campaign Chair John B. Zachry to celebrate the work of United Way and the campaign season. Hosted by NuStar Energy. Invites are sent to members via email. \nWomen United is a membership group that mobilizes women to strengthen our community through the work of United Way of San Antonio and Bexar County. Membership is open to donors who give $500 or more annually. To learn more\, visit uwsa.org/women-united. \n  \n 
URL:https://www.uwsatx.org/event/viva-women-united-chairs-reception/
CATEGORIES:Women United
ATTACH;FMTTYPE=image/jpeg:https://www.uwsatx.org/wp-content/uploads/2022/08/2022_WU_ChairmansReception_WebFeature_429x267-1.jpg
END:VEVENT
BEGIN:VEVENT
DTSTART;TZID=UTC:20220823T073000
DTEND;TZID=UTC:20220823T090000
DTSTAMP:20260423T111808
CREATED:20220804T150359Z
LAST-MODIFIED:20220804T150359Z
UID:1880-1661239800-1661245200@www.uwsatx.org
SUMMARY:Emerging Leaders Close Up Conversation
DESCRIPTION:Looking Beyond the Horizon: Tools for Long-Term Thinking\n Emerging Leaders Close Up Conversation with our 2022 United Way Community Campaign Chair John B. Zachry. Invitations will be sent to members via email.
URL:https://www.uwsatx.org/event/emerging-leaders-close-up-conversation/
CATEGORIES:Emerging Leaders
ATTACH;FMTTYPE=image/jpeg:https://www.uwsatx.org/wp-content/uploads/2022/08/2022_EL_CloseUp_Zachry_WebFeature_429x267.jpg
END:VEVENT
BEGIN:VEVENT
DTSTART;TZID=UTC:20220524T170000
DTEND;TZID=UTC:20220524T190000
DTSTAMP:20260423T111808
CREATED:20220502T160019Z
LAST-MODIFIED:20220601T201118Z
UID:1458-1653411600-1653418800@www.uwsatx.org
SUMMARY:Women United Margarita Mingle
DESCRIPTION:Our annual mingle is a time for members to get together and celebrate United Way’s work. Invitations will be sent to members via email.
URL:https://www.uwsatx.org/event/women-united-margarita-mingle/
CATEGORIES:Women United
ATTACH;FMTTYPE=image/jpeg:https://www.uwsatx.org/wp-content/uploads/2022/04/margaita-mingle.jpg
END:VEVENT
BEGIN:VEVENT
DTSTART;TZID=UTC:20220518T180000
DTEND;TZID=UTC:20220518T210000
DTSTAMP:20260423T111808
CREATED:20220502T153005Z
LAST-MODIFIED:20220513T170138Z
UID:1456-1652896800-1652907600@www.uwsatx.org
SUMMARY:Tocqueville Spring Dinner
DESCRIPTION:
URL:https://www.uwsatx.org/event/tocqueville-spring-dinner/
END:VEVENT
BEGIN:VEVENT
DTSTART;TZID=UTC:20220428T120000
DTEND;TZID=UTC:20220428T130000
DTSTAMP:20260423T111808
CREATED:20220426T201728Z
LAST-MODIFIED:20220502T175219Z
UID:1393-1651147200-1651150800@www.uwsatx.org
SUMMARY:Planned Giving Panel
DESCRIPTION:United Way of San Antonio and Bexar County’s Endowment is critical to the future of our community as we support generations to come. Join us for a Planned Giving Panel featuring experts who will discuss the steps that can be taken to leave a planned gift and answer any questions regarding what it means to leave a legacy through a planned gift.
URL:https://www.uwsatx.org/event/planned-giving-panel/
END:VEVENT
END:VCALENDAR